{
 "currentVersion": 11.2,
 "cimVersion": "3.2.0",
 "serviceDescription": "d",
 "mapName": "Layers",
 "description": "d",
 "copyrightText": "",
 "supportsDynamicLayers": false,
 "layers": [
  {
   "id": 0,
   "name": "Punkty adresowe",
   "parentLayerId": -1,
   "defaultVisibility": true,
   "subLayerIds": null,
   "minScale": 4000,
   "maxScale": 0,
   "type": "Feature Layer",
   "geometryType": "esriGeometryPoint",
   "supportsDynamicLegends": true
  },
  {
   "id": 1,
   "name": "Miejscowości",
   "parentLayerId": -1,
   "defaultVisibility": true,
   "subLayerIds": [],
   "minScale": 120000,
   "maxScale": 0,
   "type": "Group Layer",
   "supportsDynamicLegends": false
  },
  {
   "id": 2,
   "name": "1:500",
   "parentLayerId": -1,
   "defaultVisibility": true,
   "subLayerIds": [
    3,
    4,
    5,
    6,
    7,
    8
   ],
   "minScale": 700,
   "maxScale": 0,
   "type": "Group Layer",
   "supportsDynamicLegends": false
  },
  {
   "id": 3,
   "name": "Obiekt przyrodniczy",
   "parentLayerId": 2,
   "defaultVisibility": true,
   "subLayerIds": [],
   "minScale": 700,
   "maxScale": 0,
   "type": "Group Layer",
   "supportsDynamicLegends": false
  },
  {
   "id": 4,
   "name": "Tor lub zespół torów",
   "parentLayerId": 2,
   "defaultVisibility": true,
   "subLayerIds": [],
   "minScale": 700,
   "maxScale": 0,
   "type": "Group Layer",
   "supportsDynamicLegends": false
  },
  {
   "id": 5,
   "name": "Jezdnia",
   "parentLayerId": 2,
   "defaultVisibility": true,
   "subLayerIds": [],
   "minScale": 700,
   "maxScale": 0,
   "type": "Group Layer",
   "supportsDynamicLegends": false
  },
  {
   "id": 6,
   "name": "Ciąg ruchu pieszego i rowerowego",
   "parentLayerId": 2,
   "defaultVisibility": true,
   "subLayerIds": [],
   "minScale": 700,
   "maxScale": 0,
   "type": "Group Layer",
   "supportsDynamicLegends": false
  },
  {
   "id": 7,
   "name": "Rzeka i strumień",
   "parentLayerId": 2,
   "defaultVisibility": true,
   "subLayerIds": [],
   "minScale": 700,
   "maxScale": 0,
   "type": "Group Layer",
   "supportsDynamicLegends": false
  },
  {
   "id": 8,
   "name": "Rów melioracyjny",
   "parentLayerId": 2,
   "defaultVisibility": true,
   "subLayerIds": [],
   "minScale": 700,
   "maxScale": 0,
   "type": "Group Layer",
   "supportsDynamicLegends": false
  },
  {
   "id": 9,
   "name": "1:1000",
   "parentLayerId": -1,
   "defaultVisibility": true,
   "subLayerIds": [
    10,
    11,
    12,
    13,
    14
   ],
   "minScale": 1500,
   "maxScale": 751,
   "type": "Group Layer",
   "supportsDynamicLegends": false
  },
  {
   "id": 10,
   "name": "Obiekt przyrodniczy",
   "parentLayerId": 9,
   "defaultVisibility": true,
   "subLayerIds": [],
   "minScale": 1500,
   "maxScale": 701,
   "type": "Group Layer",
   "supportsDynamicLegends": false
  },
  {
   "id": 11,
   "name": "Tor lub zespół torów",
   "parentLayerId": 9,
   "defaultVisibility": true,
   "subLayerIds": [],
   "minScale": 1500,
   "maxScale": 701,
   "type": "Group Layer",
   "supportsDynamicLegends": false
  },
  {
   "id": 12,
   "name": "Jezdnia",
   "parentLayerId": 9,
   "defaultVisibility": true,
   "subLayerIds": [],
   "minScale": 1500,
   "maxScale": 701,
   "type": "Group Layer",
   "supportsDynamicLegends": false
  },
  {
   "id": 13,
   "name": "Ciąg ruchu pieszego i rowerowego",
   "parentLayerId": 9,
   "defaultVisibility": true,
   "subLayerIds": [],
   "minScale": 1500,
   "maxScale": 701,
   "type": "Group Layer",
   "supportsDynamicLegends": false
  },
  {
   "id": 14,
   "name": "Rzeka i strumień",
   "parentLayerId": 9,
   "defaultVisibility": true,
   "subLayerIds": [],
   "minScale": 1500,
   "maxScale": 701,
   "type": "Group Layer",
   "supportsDynamicLegends": false
  },
  {
   "id": 15,
   "name": "1:2000",
   "parentLayerId": -1,
   "defaultVisibility": true,
   "subLayerIds": [
    16,
    17,
    18,
    19,
    20
   ],
   "minScale": 2500,
   "maxScale": 1501,
   "type": "Group Layer",
   "supportsDynamicLegends": false
  },
  {
   "id": 16,
   "name": "Obiekt przyrodniczy",
   "parentLayerId": 15,
   "defaultVisibility": true,
   "subLayerIds": [],
   "minScale": 2500,
   "maxScale": 1501,
   "type": "Group Layer",
   "supportsDynamicLegends": false
  },
  {
   "id": 17,
   "name": "Tor lub zespół torów",
   "parentLayerId": 15,
   "defaultVisibility": true,
   "subLayerIds": [],
   "minScale": 2500,
   "maxScale": 1501,
   "type": "Group Layer",
   "supportsDynamicLegends": false
  },
  {
   "id": 18,
   "name": "Jezdnia",
   "parentLayerId": 15,
   "defaultVisibility": true,
   "subLayerIds": [],
   "minScale": 2500,
   "maxScale": 1501,
   "type": "Group Layer",
   "supportsDynamicLegends": false
  },
  {
   "id": 19,
   "name": "Ciąg ruchu pieszego i rowerowego",
   "parentLayerId": 15,
   "defaultVisibility": true,
   "subLayerIds": [],
   "minScale": 2500,
   "maxScale": 1501,
   "type": "Group Layer",
   "supportsDynamicLegends": false
  },
  {
   "id": 20,
   "name": "Rzeka i strumień",
   "parentLayerId": 15,
   "defaultVisibility": true,
   "subLayerIds": [],
   "minScale": 2500,
   "maxScale": 1501,
   "type": "Group Layer",
   "supportsDynamicLegends": false
  },
  {
   "id": 21,
   "name": "1:5000",
   "parentLayerId": -1,
   "defaultVisibility": true,
   "subLayerIds": [
    22,
    23,
    24,
    25,
    26,
    27
   ],
   "minScale": 7500,
   "maxScale": 2501,
   "type": "Group Layer",
   "supportsDynamicLegends": false
  },
  {
   "id": 22,
   "name": "Obiekt przyrodniczy",
   "parentLayerId": 21,
   "defaultVisibility": true,
   "subLayerIds": [],
   "minScale": 0,
   "maxScale": 0,
   "type": "Group Layer",
   "supportsDynamicLegends": false
  },
  {
   "id": 23,
   "name": "Tor lub zespół torów",
   "parentLayerId": 21,
   "defaultVisibility": true,
   "subLayerIds": [],
   "minScale": 7000,
   "maxScale": 3001,
   "type": "Group Layer",
   "supportsDynamicLegends": false
  },
  {
   "id": 24,
   "name": "Jezdnia",
   "parentLayerId": 21,
   "defaultVisibility": true,
   "subLayerIds": [],
   "minScale": 7000,
   "maxScale": 3001,
   "type": "Group Layer",
   "supportsDynamicLegends": false
  },
  {
   "id": 25,
   "name": "Ciąg ruchu pieszego i rowerowego",
   "parentLayerId": 21,
   "defaultVisibility": true,
   "subLayerIds": [],
   "minScale": 7000,
   "maxScale": 3001,
   "type": "Group Layer",
   "supportsDynamicLegends": false
  },
  {
   "id": 26,
   "name": "Rzeka i strumień",
   "parentLayerId": 21,
   "defaultVisibility": true,
   "subLayerIds": [],
   "minScale": 7500,
   "maxScale": 2501,
   "type": "Group Layer",
   "supportsDynamicLegends": false
  },
  {
   "id": 27,
   "name": "Rów melioracyjny",
   "parentLayerId": 21,
   "defaultVisibility": true,
   "subLayerIds": [],
   "minScale": 7500,
   "maxScale": 2501,
   "type": "Group Layer",
   "supportsDynamicLegends": false
  },
  {
   "id": 28,
   "name": "1:10 000",
   "parentLayerId": -1,
   "defaultVisibility": true,
   "subLayerIds": [
    29,
    30,
    31,
    32,
    33
   ],
   "minScale": 20000,
   "maxScale": 7000,
   "type": "Group Layer",
   "supportsDynamicLegends": false
  },
  {
   "id": 29,
   "name": "Tor lub zespół torów",
   "parentLayerId": 28,
   "defaultVisibility": true,
   "subLayerIds": [],
   "minScale": 20000,
   "maxScale": 7001,
   "type": "Group Layer",
   "supportsDynamicLegends": false
  },
  {
   "id": 30,
   "name": "Jezdnia",
   "parentLayerId": 28,
   "defaultVisibility": true,
   "subLayerIds": [],
   "minScale": 0,
   "maxScale": 0,
   "type": "Group Layer",
   "supportsDynamicLegends": false
  },
  {
   "id": 31,
   "name": "Ciąg ruchu pieszego i rowerowego",
   "parentLayerId": 28,
   "defaultVisibility": true,
   "subLayerIds": [],
   "minScale": 20000,
   "maxScale": 7001,
   "type": "Group Layer",
   "supportsDynamicLegends": false
  },
  {
   "id": 32,
   "name": "Rzeka i strumień",
   "parentLayerId": 28,
   "defaultVisibility": true,
   "subLayerIds": [],
   "minScale": 20000,
   "maxScale": 7001,
   "type": "Group Layer",
   "supportsDynamicLegends": false
  },
  {
   "id": 33,
   "name": "Rów melioracyjny",
   "parentLayerId": 28,
   "defaultVisibility": true,
   "subLayerIds": [],
   "minScale": 20000,
   "maxScale": 7001,
   "type": "Group Layer",
   "supportsDynamicLegends": false
  },
  {
   "id": 34,
   "name": "1:25 000",
   "parentLayerId": -1,
   "defaultVisibility": true,
   "subLayerIds": [
    35,
    36,
    37,
    38,
    39
   ],
   "minScale": 35000,
   "maxScale": 20001,
   "type": "Group Layer",
   "supportsDynamicLegends": false
  },
  {
   "id": 35,
   "name": "Tor lub zespół torów",
   "parentLayerId": 34,
   "defaultVisibility": true,
   "subLayerIds": [],
   "minScale": 35000,
   "maxScale": 20001,
   "type": "Group Layer",
   "supportsDynamicLegends": false
  },
  {
   "id": 36,
   "name": "Jezdnia",
   "parentLayerId": 34,
   "defaultVisibility": true,
   "subLayerIds": [],
   "minScale": 35000,
   "maxScale": 20001,
   "type": "Group Layer",
   "supportsDynamicLegends": false
  },
  {
   "id": 37,
   "name": "Ciąg ruchu pieszego i rowerowego",
   "parentLayerId": 34,
   "defaultVisibility": true,
   "subLayerIds": [],
   "minScale": 35000,
   "maxScale": 20001,
   "type": "Group Layer",
   "supportsDynamicLegends": false
  },
  {
   "id": 38,
   "name": "Rzeka i strumień",
   "parentLayerId": 34,
   "defaultVisibility": true,
   "subLayerIds": [],
   "minScale": 35000,
   "maxScale": 20001,
   "type": "Group Layer",
   "supportsDynamicLegends": false
  },
  {
   "id": 39,
   "name": "Rów melioracyjny",
   "parentLayerId": 34,
   "defaultVisibility": true,
   "subLayerIds": [],
   "minScale": 35000,
   "maxScale": 20001,
   "type": "Group Layer",
   "supportsDynamicLegends": false
  },
  {
   "id": 40,
   "name": "1:50 000",
   "parentLayerId": -1,
   "defaultVisibility": true,
   "subLayerIds": [
    41,
    42,
    43,
    44
   ],
   "minScale": 75000,
   "maxScale": 35001,
   "type": "Group Layer",
   "supportsDynamicLegends": false
  },
  {
   "id": 41,
   "name": "Tor lub zespół torów",
   "parentLayerId": 40,
   "defaultVisibility": true,
   "subLayerIds": [],
   "minScale": 75000,
   "maxScale": 35001,
   "type": "Group Layer",
   "supportsDynamicLegends": false
  },
  {
   "id": 42,
   "name": "Jezdnia",
   "parentLayerId": 40,
   "defaultVisibility": true,
   "subLayerIds": [],
   "minScale": 75000,
   "maxScale": 35001,
   "type": "Group Layer",
   "supportsDynamicLegends": false
  },
  {
   "id": 43,
   "name": "Ciąg ruchu pieszego i rowerowego",
   "parentLayerId": 40,
   "defaultVisibility": true,
   "subLayerIds": [],
   "minScale": 75000,
   "maxScale": 35001,
   "type": "Group Layer",
   "supportsDynamicLegends": false
  },
  {
   "id": 44,
   "name": "Rzeka i strumień",
   "parentLayerId": 40,
   "defaultVisibility": true,
   "subLayerIds": [],
   "minScale": 75000,
   "maxScale": 35001,
   "type": "Group Layer",
   "supportsDynamicLegends": false
  },
  {
   "id": 45,
   "name": "1:100 000",
   "parentLayerId": -1,
   "defaultVisibility": true,
   "subLayerIds": [
    46,
    47
   ],
   "minScale": 150000,
   "maxScale": 75001,
   "type": "Group Layer",
   "supportsDynamicLegends": false
  },
  {
   "id": 46,
   "name": "Tor lub zespół torów",
   "parentLayerId": 45,
   "defaultVisibility": true,
   "subLayerIds": [],
   "minScale": 150000,
   "maxScale": 75001,
   "type": "Group Layer",
   "supportsDynamicLegends": false
  },
  {
   "id": 47,
   "name": "Rzeka i strumień",
   "parentLayerId": 45,
   "defaultVisibility": true,
   "subLayerIds": [],
   "minScale": 150000,
   "maxScale": 75001,
   "type": "Group Layer",
   "supportsDynamicLegends": false
  },
  {
   "id": 48,
   "name": "1:250 000",
   "parentLayerId": -1,
   "defaultVisibility": true,
   "subLayerIds": [],
   "minScale": 300000,
   "maxScale": 150001,
   "type": "Group Layer",
   "supportsDynamicLegends": false
  },
  {
   "id": 49,
   "name": "1:500 000",
   "parentLayerId": -1,
   "defaultVisibility": true,
   "subLayerIds": [],
   "minScale": 750000,
   "maxScale": 300001,
   "type": "Group Layer",
   "supportsDynamicLegends": false
  },
  {
   "id": 50,
   "name": "1:1 000 000",
   "parentLayerId": -1,
   "defaultVisibility": true,
   "subLayerIds": [],
   "minScale": 1500000,
   "maxScale": 750001,
   "type": "Group Layer",
   "supportsDynamicLegends": false
  },
  {
   "id": 51,
   "name": "1:2 000 000",
   "parentLayerId": -1,
   "defaultVisibility": true,
   "subLayerIds": [],
   "minScale": 2500000,
   "maxScale": 1500001,
   "type": "Group Layer",
   "supportsDynamicLegends": false
  },
  {
   "id": 52,
   "name": "1:4 000 000",
   "parentLayerId": -1,
   "defaultVisibility": true,
   "subLayerIds": [],
   "minScale": 5000000,
   "maxScale": 2500001,
   "type": "Group Layer",
   "supportsDynamicLegends": false
  },
  {
   "id": 53,
   "name": "1:8 000 000",
   "parentLayerId": -1,
   "defaultVisibility": true,
   "subLayerIds": [],
   "minScale": 0,
   "maxScale": 5000001,
   "type": "Group Layer",
   "supportsDynamicLegends": false
  }
 ],
 "tables": [],
 "spatialReference": {
  "wkid": 2180,
  "latestWkid": 2180,
  "xyTolerance": 0.001,
  "zTolerance": 2,
  "mTolerance": 2,
  "falseX": -5119200,
  "falseY": -15295100,
  "xyUnits": 4.505807473032281E8,
  "falseZ": 0,
  "zUnits": 1,
  "falseM": -100000,
  "mUnits": 10000
 },
 "singleFusedMapCache": true,
 "tileInfo": {
  "rows": 512,
  "cols": 512,
  "dpi": 96,
  "format": "PNG",
  "compressionQuality": 0,
  "origin": {
   "x": 100000,
   "y": 850000
  },
  "spatialReference": {
   "wkid": 2180,
   "latestWkid": 2180,
   "xyTolerance": 0.001,
   "zTolerance": 2,
   "mTolerance": 2,
   "falseX": -5680984.000214058,
   "falseY": -1.6294459688539332E7,
   "xyUnits": 4.096244613152809E8,
   "falseZ": 0,
   "zUnits": 1,
   "falseM": -100000,
   "mUnits": 10000
  },
  "lods": [
   {
    "level": 0,
    "resolution": 8466.683600033868,
    "scale": 32000000
   },
   {
    "level": 1,
    "resolution": 4233.341800016934,
    "scale": 16000000
   },
   {
    "level": 2,
    "resolution": 2116.670900008467,
    "scale": 8000000
   },
   {
    "level": 3,
    "resolution": 1058.3354500042335,
    "scale": 4000000
   },
   {
    "level": 4,
    "resolution": 529.1677250021168,
    "scale": 2000000
   },
   {
    "level": 5,
    "resolution": 264.5838625010584,
    "scale": 1000000
   },
   {
    "level": 6,
    "resolution": 132.2919312505292,
    "scale": 500000
   },
   {
    "level": 7,
    "resolution": 66.1459656252646,
    "scale": 250000
   },
   {
    "level": 8,
    "resolution": 26.458386250105836,
    "scale": 100000
   },
   {
    "level": 9,
    "resolution": 13.229193125052918,
    "scale": 50000
   },
   {
    "level": 10,
    "resolution": 6.614596562526459,
    "scale": 25000
   },
   {
    "level": 11,
    "resolution": 2.6458386250105836,
    "scale": 10000
   },
   {
    "level": 12,
    "resolution": 1.3229193125052918,
    "scale": 5000
   },
   {
    "level": 13,
    "resolution": 0.5291677250021167,
    "scale": 2000
   },
   {
    "level": 14,
    "resolution": 0.26458386250105836,
    "scale": 1000
   },
   {
    "level": 15,
    "resolution": 0.13229193125052918,
    "scale": 500
   }
  ]
 },
 "storageInfo": {
  "storageFormat": "esriMapCacheStorageModeCompact",
  "packetSize": 128
 },
 "initialExtent": {
  "xmin": 358780.54279183666,
  "ymin": 513864.6830958078,
  "xmax": 359201.4433871808,
  "ymax": 514022.37507785845,
  "spatialReference": {
   "wkid": 2180,
   "latestWkid": 2180,
   "xyTolerance": 0.001,
   "zTolerance": 2,
   "mTolerance": 2,
   "falseX": -5119200,
   "falseY": -15295100,
   "xyUnits": 4.505807473032281E8,
   "falseZ": 0,
   "zUnits": 1,
   "falseM": -100000,
   "mUnits": 10000
  }
 },
 "fullExtent": {
  "xmin": -239776.4795529595,
  "ymin": -134769.89145043318,
  "xmax": 1239776.4795529589,
  "ymax": 1194499.4337548842,
  "spatialReference": {
   "wkid": 2180,
   "latestWkid": 2180,
   "xyTolerance": 0.001,
   "zTolerance": 2,
   "mTolerance": 2,
   "falseX": -5119200,
   "falseY": -15295100,
   "xyUnits": 4.505807473032281E8,
   "falseZ": 0,
   "zUnits": 1,
   "falseM": -100000,
   "mUnits": 10000
  }
 },
 "datesInUnknownTimezone": false,
 "minScale": 32000000,
 "maxScale": 500,
 "units": "esriMeters",
 "supportedImageFormatTypes": "PNG32,PNG24,PNG,JPG,DIB,TIFF,EMF,PS,PDF,GIF,SVG,SVGZ,BMP",
 "documentInfo": {
  "Title": "G2_MOBILE_500_test.aprx",
  "Author": "",
  "Comments": "d",
  "Subject": "s",
  "Category": "",
  "Version": "3.2.0",
  "AntialiasingMode": "Best",
  "TextAntialiasingMode": "Force",
  "Keywords": "t"
 },
 "supportsQueryDomains": true,
 "capabilities": "Map,Query,Data",
 "supportedQueryFormats": "JSON, geoJSON, PBF",
 "exportTilesAllowed": false,
 "referenceScale": 0.0,
 "datumTransformations": [
  {
   "geoTransforms": [
    {
     "wkid": 108001,
     "latestWkid": 1241,
     "transformForward": true,
     "name": "NAD_1927_To_NAD_1983_NADCON"
    }
   ]
  },
  {
   "geoTransforms": [
    {
     "wkid": 108001,
     "latestWkid": 1241,
     "transformForward": false,
     "name": "NAD_1927_To_NAD_1983_NADCON"
    }
   ]
  }
 ],
 "supportsDatumTransformation": true,
 "archivingInfo": {
  "supportsHistoricMoment": false
 },
 "supportsClipping": true,
 "supportsSpatialFilter": true,
 "supportsTimeRelation": true,
 "supportsQueryDataElements": true,
 "mapUnits": {
  "uwkid": 9001
 },
 "maxRecordCount": 1000,
 "maxImageHeight": 4096,
 "maxImageWidth": 4096,
 "supportedExtensions": "",
 "resampling": false
}
