{
  "iMapServerVersion" : "2.0",
  "currentVersion" : 10.2,
  "serviceDescription" : "d",
  "mapName" : "Layers",
  "description" : "",
  "copyrightText" : "",
  "supportsDynamicLayers" : false,
  "layers" : [ {
    "id" : 0,
    "name" : "Punkty adresowe",
    "parentLayerId" : -1,
    "defaultVisibility" : true,
    "subLayerIds" : null,
    "minScale" : 4000,
    "maxScale" : 0
  }, {
    "id" : 1,
    "name" : "Miejscowości",
    "parentLayerId" : -1,
    "defaultVisibility" : true,
    "subLayerIds" : [ ],
    "minScale" : 120000,
    "maxScale" : 0
  }, {
    "id" : 2,
    "name" : "1:500",
    "parentLayerId" : -1,
    "defaultVisibility" : true,
    "subLayerIds" : [ 3, 4, 5, 6, 7, 8 ],
    "minScale" : 700,
    "maxScale" : 0
  }, {
    "id" : 3,
    "name" : "Obiekt przyrodniczy",
    "parentLayerId" : 2,
    "defaultVisibility" : true,
    "subLayerIds" : [ ],
    "minScale" : 700,
    "maxScale" : 0
  }, {
    "id" : 4,
    "name" : "Tor lub zespół torów",
    "parentLayerId" : 2,
    "defaultVisibility" : true,
    "subLayerIds" : [ ],
    "minScale" : 700,
    "maxScale" : 0
  }, {
    "id" : 5,
    "name" : "Jezdnia",
    "parentLayerId" : 2,
    "defaultVisibility" : true,
    "subLayerIds" : [ ],
    "minScale" : 700,
    "maxScale" : 0
  }, {
    "id" : 6,
    "name" : "Ciąg ruchu pieszego i rowerowego",
    "parentLayerId" : 2,
    "defaultVisibility" : true,
    "subLayerIds" : [ ],
    "minScale" : 700,
    "maxScale" : 0
  }, {
    "id" : 7,
    "name" : "Rzeka i strumień",
    "parentLayerId" : 2,
    "defaultVisibility" : true,
    "subLayerIds" : [ ],
    "minScale" : 700,
    "maxScale" : 0
  }, {
    "id" : 8,
    "name" : "Rów melioracyjny",
    "parentLayerId" : 2,
    "defaultVisibility" : true,
    "subLayerIds" : [ ],
    "minScale" : 700,
    "maxScale" : 0
  }, {
    "id" : 9,
    "name" : "1:1000",
    "parentLayerId" : -1,
    "defaultVisibility" : true,
    "subLayerIds" : [ 10, 11, 12, 13, 14 ],
    "minScale" : 1500,
    "maxScale" : 751
  }, {
    "id" : 10,
    "name" : "Obiekt przyrodniczy",
    "parentLayerId" : 9,
    "defaultVisibility" : true,
    "subLayerIds" : [ ],
    "minScale" : 1500,
    "maxScale" : 701
  }, {
    "id" : 11,
    "name" : "Tor lub zespół torów",
    "parentLayerId" : 9,
    "defaultVisibility" : true,
    "subLayerIds" : [ ],
    "minScale" : 1500,
    "maxScale" : 701
  }, {
    "id" : 12,
    "name" : "Jezdnia",
    "parentLayerId" : 9,
    "defaultVisibility" : true,
    "subLayerIds" : [ ],
    "minScale" : 1500,
    "maxScale" : 701
  }, {
    "id" : 13,
    "name" : "Ciąg ruchu pieszego i rowerowego",
    "parentLayerId" : 9,
    "defaultVisibility" : true,
    "subLayerIds" : [ ],
    "minScale" : 1500,
    "maxScale" : 701
  }, {
    "id" : 14,
    "name" : "Rzeka i strumień",
    "parentLayerId" : 9,
    "defaultVisibility" : true,
    "subLayerIds" : [ ],
    "minScale" : 1500,
    "maxScale" : 701
  }, {
    "id" : 15,
    "name" : "1:2000",
    "parentLayerId" : -1,
    "defaultVisibility" : true,
    "subLayerIds" : [ 16, 17, 18, 19, 20 ],
    "minScale" : 2500,
    "maxScale" : 1501
  }, {
    "id" : 16,
    "name" : "Obiekt przyrodniczy",
    "parentLayerId" : 15,
    "defaultVisibility" : true,
    "subLayerIds" : [ ],
    "minScale" : 2500,
    "maxScale" : 1501
  }, {
    "id" : 17,
    "name" : "Tor lub zespół torów",
    "parentLayerId" : 15,
    "defaultVisibility" : true,
    "subLayerIds" : [ ],
    "minScale" : 2500,
    "maxScale" : 1501
  }, {
    "id" : 18,
    "name" : "Jezdnia",
    "parentLayerId" : 15,
    "defaultVisibility" : true,
    "subLayerIds" : [ ],
    "minScale" : 2500,
    "maxScale" : 1501
  }, {
    "id" : 19,
    "name" : "Ciąg ruchu pieszego i rowerowego",
    "parentLayerId" : 15,
    "defaultVisibility" : true,
    "subLayerIds" : [ ],
    "minScale" : 2500,
    "maxScale" : 1501
  }, {
    "id" : 20,
    "name" : "Rzeka i strumień",
    "parentLayerId" : 15,
    "defaultVisibility" : true,
    "subLayerIds" : [ ],
    "minScale" : 2500,
    "maxScale" : 1501
  }, {
    "id" : 21,
    "name" : "1:5000",
    "parentLayerId" : -1,
    "defaultVisibility" : true,
    "subLayerIds" : [ 22, 23, 24, 25, 26, 27 ],
    "minScale" : 7500,
    "maxScale" : 2501
  }, {
    "id" : 22,
    "name" : "Obiekt przyrodniczy",
    "parentLayerId" : 21,
    "defaultVisibility" : true,
    "subLayerIds" : [ ],
    "minScale" : 0,
    "maxScale" : 0
  }, {
    "id" : 23,
    "name" : "Tor lub zespół torów",
    "parentLayerId" : 21,
    "defaultVisibility" : true,
    "subLayerIds" : [ ],
    "minScale" : 7000,
    "maxScale" : 3001
  }, {
    "id" : 24,
    "name" : "Jezdnia",
    "parentLayerId" : 21,
    "defaultVisibility" : true,
    "subLayerIds" : [ ],
    "minScale" : 7000,
    "maxScale" : 3001
  }, {
    "id" : 25,
    "name" : "Ciąg ruchu pieszego i rowerowego",
    "parentLayerId" : 21,
    "defaultVisibility" : true,
    "subLayerIds" : [ ],
    "minScale" : 7000,
    "maxScale" : 3001
  }, {
    "id" : 26,
    "name" : "Rzeka i strumień",
    "parentLayerId" : 21,
    "defaultVisibility" : true,
    "subLayerIds" : [ ],
    "minScale" : 7500,
    "maxScale" : 2501
  }, {
    "id" : 27,
    "name" : "Rów melioracyjny",
    "parentLayerId" : 21,
    "defaultVisibility" : true,
    "subLayerIds" : [ ],
    "minScale" : 7500,
    "maxScale" : 2501
  }, {
    "id" : 28,
    "name" : "1:10 000",
    "parentLayerId" : -1,
    "defaultVisibility" : true,
    "subLayerIds" : [ 29, 30, 31, 32, 33 ],
    "minScale" : 20000,
    "maxScale" : 7000
  }, {
    "id" : 29,
    "name" : "Tor lub zespół torów",
    "parentLayerId" : 28,
    "defaultVisibility" : true,
    "subLayerIds" : [ ],
    "minScale" : 20000,
    "maxScale" : 7001
  }, {
    "id" : 30,
    "name" : "Jezdnia",
    "parentLayerId" : 28,
    "defaultVisibility" : true,
    "subLayerIds" : [ ],
    "minScale" : 0,
    "maxScale" : 0
  }, {
    "id" : 31,
    "name" : "Ciąg ruchu pieszego i rowerowego",
    "parentLayerId" : 28,
    "defaultVisibility" : true,
    "subLayerIds" : [ ],
    "minScale" : 20000,
    "maxScale" : 7001
  }, {
    "id" : 32,
    "name" : "Rzeka i strumień",
    "parentLayerId" : 28,
    "defaultVisibility" : true,
    "subLayerIds" : [ ],
    "minScale" : 20000,
    "maxScale" : 7001
  }, {
    "id" : 33,
    "name" : "Rów melioracyjny",
    "parentLayerId" : 28,
    "defaultVisibility" : true,
    "subLayerIds" : [ ],
    "minScale" : 20000,
    "maxScale" : 7001
  }, {
    "id" : 34,
    "name" : "1:25 000",
    "parentLayerId" : -1,
    "defaultVisibility" : true,
    "subLayerIds" : [ 35, 36, 37, 38, 39 ],
    "minScale" : 35000,
    "maxScale" : 20001
  }, {
    "id" : 35,
    "name" : "Tor lub zespół torów",
    "parentLayerId" : 34,
    "defaultVisibility" : true,
    "subLayerIds" : [ ],
    "minScale" : 35000,
    "maxScale" : 20001
  }, {
    "id" : 36,
    "name" : "Jezdnia",
    "parentLayerId" : 34,
    "defaultVisibility" : true,
    "subLayerIds" : [ ],
    "minScale" : 35000,
    "maxScale" : 20001
  }, {
    "id" : 37,
    "name" : "Ciąg ruchu pieszego i rowerowego",
    "parentLayerId" : 34,
    "defaultVisibility" : true,
    "subLayerIds" : [ ],
    "minScale" : 35000,
    "maxScale" : 20001
  }, {
    "id" : 38,
    "name" : "Rzeka i strumień",
    "parentLayerId" : 34,
    "defaultVisibility" : true,
    "subLayerIds" : [ ],
    "minScale" : 35000,
    "maxScale" : 20001
  }, {
    "id" : 39,
    "name" : "Rów melioracyjny",
    "parentLayerId" : 34,
    "defaultVisibility" : true,
    "subLayerIds" : [ ],
    "minScale" : 35000,
    "maxScale" : 20001
  }, {
    "id" : 40,
    "name" : "1:50 000",
    "parentLayerId" : -1,
    "defaultVisibility" : true,
    "subLayerIds" : [ 41, 42, 43, 44 ],
    "minScale" : 75000,
    "maxScale" : 35001
  }, {
    "id" : 41,
    "name" : "Tor lub zespół torów",
    "parentLayerId" : 40,
    "defaultVisibility" : true,
    "subLayerIds" : [ ],
    "minScale" : 75000,
    "maxScale" : 35001
  }, {
    "id" : 42,
    "name" : "Jezdnia",
    "parentLayerId" : 40,
    "defaultVisibility" : true,
    "subLayerIds" : [ ],
    "minScale" : 75000,
    "maxScale" : 35001
  }, {
    "id" : 43,
    "name" : "Ciąg ruchu pieszego i rowerowego",
    "parentLayerId" : 40,
    "defaultVisibility" : true,
    "subLayerIds" : [ ],
    "minScale" : 75000,
    "maxScale" : 35001
  }, {
    "id" : 44,
    "name" : "Rzeka i strumień",
    "parentLayerId" : 40,
    "defaultVisibility" : true,
    "subLayerIds" : [ ],
    "minScale" : 75000,
    "maxScale" : 35001
  }, {
    "id" : 45,
    "name" : "1:100 000",
    "parentLayerId" : -1,
    "defaultVisibility" : true,
    "subLayerIds" : [ 46, 47 ],
    "minScale" : 150000,
    "maxScale" : 75001
  }, {
    "id" : 46,
    "name" : "Tor lub zespół torów",
    "parentLayerId" : 45,
    "defaultVisibility" : true,
    "subLayerIds" : [ ],
    "minScale" : 150000,
    "maxScale" : 75001
  }, {
    "id" : 47,
    "name" : "Rzeka i strumień",
    "parentLayerId" : 45,
    "defaultVisibility" : true,
    "subLayerIds" : [ ],
    "minScale" : 150000,
    "maxScale" : 75001
  }, {
    "id" : 48,
    "name" : "1:250 000",
    "parentLayerId" : -1,
    "defaultVisibility" : true,
    "subLayerIds" : [ ],
    "minScale" : 300000,
    "maxScale" : 150001
  }, {
    "id" : 49,
    "name" : "1:500 000",
    "parentLayerId" : -1,
    "defaultVisibility" : true,
    "subLayerIds" : [ ],
    "minScale" : 750000,
    "maxScale" : 300001
  }, {
    "id" : 50,
    "name" : "1:1 000 000",
    "parentLayerId" : -1,
    "defaultVisibility" : true,
    "subLayerIds" : [ ],
    "minScale" : 1500000,
    "maxScale" : 750001
  }, {
    "id" : 51,
    "name" : "1:2 000 000",
    "parentLayerId" : -1,
    "defaultVisibility" : true,
    "subLayerIds" : [ ],
    "minScale" : 2500000,
    "maxScale" : 1500001
  }, {
    "id" : 52,
    "name" : "1:4 000 000",
    "parentLayerId" : -1,
    "defaultVisibility" : true,
    "subLayerIds" : [ ],
    "minScale" : 5000000,
    "maxScale" : 2500001
  }, {
    "id" : 53,
    "name" : "1:8 000 000",
    "parentLayerId" : -1,
    "defaultVisibility" : true,
    "subLayerIds" : [ ],
    "minScale" : 0,
    "maxScale" : 5000001
  } ],
  "tables" : [ ],
  "spatialReference" : {
    "wkid" : 2180,
    "latestWkid" : 2180
  },
  "singleFusedMapCache" : true,
  "tileInfo" : {
    "rows" : 512,
    "cols" : 512,
    "dpi" : 96,
    "format" : "PNG",
    "compressionQuality" : 0,
    "origin" : {
      "x" : 100000.0,
      "y" : 850000.0
    },
    "spatialReference" : {
      "wkid" : 2180,
      "latestWkid" : 2180
    },
    "lods" : [ {
      "level" : 0,
      "resolution" : 8466.683600033868,
      "scale" : 3.2E7
    }, {
      "level" : 1,
      "resolution" : 4233.341800016934,
      "scale" : 1.6E7
    }, {
      "level" : 2,
      "resolution" : 2116.670900008467,
      "scale" : 8000000.0
    }, {
      "level" : 3,
      "resolution" : 1058.3354500042335,
      "scale" : 4000000.0
    }, {
      "level" : 4,
      "resolution" : 529.1677250021168,
      "scale" : 2000000.0
    }, {
      "level" : 5,
      "resolution" : 264.5838625010584,
      "scale" : 1000000.0
    }, {
      "level" : 6,
      "resolution" : 132.2919312505292,
      "scale" : 500000.0
    }, {
      "level" : 7,
      "resolution" : 66.1459656252646,
      "scale" : 250000.0
    }, {
      "level" : 8,
      "resolution" : 26.458386250105836,
      "scale" : 100000.0
    }, {
      "level" : 9,
      "resolution" : 13.229193125052918,
      "scale" : 50000.0
    }, {
      "level" : 10,
      "resolution" : 6.614596562526459,
      "scale" : 25000.0
    }, {
      "level" : 11,
      "resolution" : 2.6458386250105836,
      "scale" : 10000.0
    }, {
      "level" : 12,
      "resolution" : 1.3229193125052918,
      "scale" : 5000.0
    }, {
      "level" : 13,
      "resolution" : 0.5291677250021167,
      "scale" : 2000.0
    }, {
      "level" : 14,
      "resolution" : 0.26458386250105836,
      "scale" : 1000.0
    }, {
      "level" : 15,
      "resolution" : 0.13229193125052918,
      "scale" : 500.0
    } ],
    "cacheTileFormat" : "png"
  },
  "initialExtent" : {
    "xmin" : 358843.0907103706,
    "ymin" : 513888.2310595704,
    "xmax" : 359138.89546864684,
    "ymax" : 513998.82711409585,
    "spatialReference" : {
      "wkid" : 2180,
      "latestWkid" : 2180
    }
  },
  "fullExtent" : {
    "xmin" : -239776.4795529595,
    "ymin" : -134769.89145043318,
    "xmax" : 1239776.4795529589,
    "ymax" : 1194499.4337548842,
    "spatialReference" : {
      "wkid" : 2180,
      "latestWkid" : 2180
    }
  },
  "units" : "esriMeters",
  "supportedImageFormatTypes" : "PNG32,PNG24,PNG,JPG,DIB,TIFF,EMF,PS,PDF,GIF,SVG,SVGZ,BMP",
  "documentInfo" : {
    "Title" : "",
    "Author" : "",
    "Comments" : "d",
    "Subject" : "s",
    "Category" : "",
    "AntialiasingMode" : "None",
    "TextAntialiasingMode" : "Force",
    "Keywords" : "t"
  },
  "capabilities" : "Map,Query,Data",
  "maxRecordCount" : 1000,
  "maxImageHeight" : 4096,
  "maxImageWidth" : 4096,
  "minScale" : 32000000,
  "maxScale" : 500,
  "supportedQueryFormats" : "JSON, AMF",
  "exportTilesAllowed" : false,
  "supportedExtensions" : ""
}